BEGIN:VCALENDAR
METHOD:PUBLISH
VERSION:2.0
X-WR-CALNAME:Elizabeth Gillett Online Sample Sale
PRODID:-//chicmi.com//Elizabeth Gillett Online Sample Sale
X-WR-TIMEZONE:America/New_York
CALSCALE:GREGORIAN
BEGIN:VEVENT
CREATED:20210819T123713Z
UID:chicmi.com-860-0
DTEND:20210918T020000Z
TRANSP:TRANSPARENT
CLASS:PUBLIC
SUMMARY;LANGUAGE=en-US:Elizabeth Gillett Online Sample Sale
DTSTART:20210914T140000Z
DTSTAMP:20210819T123713Z
CATEGORIES:FASHION,SAMPLESALE
SEQUENCE:0
LOCATION:Online
DESCRIPTION;LANGUAGE=en-US:Shop at https://www.chicmi.com/flash/elizabeth-gillett-online-sampl-september-2021/
END:VEVENT
END:VCALENDAR