BEGIN:VCALENDAR
METHOD:PUBLISH
VERSION:2.0
X-WR-CALNAME:Luv Lou Online Sample Sale
PRODID:-//chicmi.com//Luv Lou Online Sample Sale
X-WR-TIMEZONE:America/New_York
CALSCALE:GREGORIAN
BEGIN:VEVENT
CREATED:20260421T121500Z
UID:chicmi.com-3612-0
DTEND:20260503T020000Z
TRANSP:TRANSPARENT
CLASS:PUBLIC
SUMMARY;LANGUAGE=en-US:Luv Lou Online Sample Sale
DTSTART:20260428T140000Z
DTSTAMP:20260421T121500Z
CATEGORIES:FASHION,SAMPLESALE
SEQUENCE:0
LOCATION:Online
DESCRIPTION;LANGUAGE=en-US:Shop at https://www.chicmi.com/flash/luv-lou-online-sample-sale-april-2026-2/
END:VEVENT
END:VCALENDAR